BEGIN:VCALENDAR
VERSION:2.0
PRODID:-//Edumark Consult - ECPv6.15.19//NONSGML v1.0//EN
CALSCALE:GREGORIAN
METHOD:PUBLISH
X-WR-CALNAME:Edumark Consult
X-ORIGINAL-URL:https://www.edumarkng.com
X-WR-CALDESC:Events for Edumark Consult
REFRESH-INTERVAL;VALUE=DURATION:PT1H
X-Robots-Tag:noindex
X-PUBLISHED-TTL:PT1H
BEGIN:VTIMEZONE
TZID:Africa/Lagos
BEGIN:STANDARD
TZOFFSETFROM:+0100
TZOFFSETTO:+0100
TZNAME:WAT
DTSTART:20240101T000000
END:STANDARD
END:VTIMEZONE
BEGIN:VEVENT
DTSTART;TZID=Africa/Lagos:20250904T103000
DTEND;TZID=Africa/Lagos:20250905T130000
DTSTAMP:20260420T175912
CREATED:20250822T232837Z
LAST-MODIFIED:20250822T233338Z
UID:4359-1756981800-1757077200@www.edumarkng.com
SUMMARY:Wellness 360° Plus for Educators
DESCRIPTION:Dear educator\, \nWe know how demanding a new session can be\, especially in the rapidly changing world that we live in today. \nWe are confident that your school team is being well-prepared for the weeks and months ahead. \nWe have created a 2-day virtual program to support your in-house training\, making your team stronger and more confident. \nIt is all about wellness 360 degrees with the theme REVIVE! RESET & THRIVE (RRT) \nThis is not the usual. We talk about the little details that matter \nStress management\nPersonal grooming(make-up tips/ cleanliness / colours )\nNutrition.. \nCelebrity Chef Lola will be handling powerful sessions on healthy\, affordable meals\nEmotional \nBasic exercise routines \nAll these and more will kick off with a strategy session on “Year 2025/26 Academic Session: Outlook” \nWe are truly excited about this program because we believe that it will help both teachers and school leaders to learn and understand the importance of pausing to breathe and unwind.\nDeveloping a positive mindset \nDate : 4th and 5th September \nTime 10:30 am -1 pm\nCost N30\,000 \nThe registration link is attached \nKindly click https://www.edumarkng.com/wellness-360-plus-for-educators/
URL:https://www.edumarkng.com/event/wellness-360-plus-for-educators/
LOCATION:Zoom\, Nigeria
CATEGORIES:Eduevent,School Leadership Program,Teachers Training
ATTACH;FMTTYPE=image/jpeg:https://www.edumarkng.com/wp-content/uploads/2025/08/facebook-dp.jpg
ORGANIZER;CN="Edumark Consult":MAILTO:info@edumarkng.com
END:VEVENT
END:VCALENDAR